BEGIN:VCALENDAR
VERSION:2.0
PRODID:-//wp-events-plugin.com//7.2.3.1//EN
BEGIN:VEVENT
UID:19@knipsografen.ch
DTSTART;TZID=Europe/Zurich:20260601T000000
DTEND;TZID=Europe/Zurich:20260601T000000
DTSTAMP:20251116T143441Z
URL:https://knipsografen.ch/events/zug-magic-lichtshow/
SUMMARY:Zug Magic - Lichtshow
DESCRIPTION:Wasser- und Lichtspiele wie in Las Vegas. Einfach am Zugersee.
END:VEVENT
BEGIN:VTIMEZONE
TZID:Europe/Zurich
X-LIC-LOCATION:Europe/Zurich
BEGIN:DAYLIGHT
DTSTART:20260329T030000
TZOFFSETFROM:+0100
TZOFFSETTO:+0200
TZNAME:CEST
END:DAYLIGHT
END:VTIMEZONE
END:VCALENDAR