BEGIN:VCALENDAR
VERSION:2.0
PRODID:-//wp-events-plugin.com//7.2.3.1//EN
BEGIN:VEVENT
UID:23@knipsografen.ch
DTSTART;TZID=Europe/Zurich:20261107T000000
DTEND;TZID=Europe/Zurich:20261107T000000
DTSTAMP:20251116T143556Z
URL:https://knipsografen.ch/events/spiegelnde-glaskugek-blaue-stunde/
SUMMARY:Spiegelnde Glaskugel / Blaue Stunde
DESCRIPTION:Je nach Wetter gehts ins Studio oder an einen schönen See.
END:VEVENT
BEGIN:VTIMEZONE
TZID:Europe/Zurich
X-LIC-LOCATION:Europe/Zurich
BEGIN:STANDARD
DTSTART:20261025T020000
TZOFFSETFROM:+0200
TZOFFSETTO:+0100
TZNAME:CET
END:STANDARD
END:VTIMEZONE
END:VCALENDAR